BEGIN:VCALENDAR
VERSION:2.0
PRODID:icalendar-ruby
CALSCALE:GREGORIAN
METHOD:PUBLISH
BEGIN:VEVENT
DTSTAMP:20260424T045604Z
UID:14-1000466@rollachurch.com
DTSTART:20260813T020000Z
DTEND:20260813T040000Z
CLASS:PUBLIC
CREATED:20260423T194024
DESCRIPTION:This is a verse-by-verse Bible Study located in Dawson Creek at
  Northern Lights College.\nContact David Miller for more information - (25
 0-219-0983)
LAST-MODIFIED:20260423T194024
LOCATION:Northern Lights College
SUMMARY:Northern Lights College Bible Study
URL;VALUE=URI:https://rollachurch.com/events/northern-lights-college-bible-
 study/2026-08-12
ATTACH;FILENAME=Bible Study.png;FMTTYPE=image/png:https://dq5pwpg1q8ru0.clo
 udfront.net/2024/02/14/03/26/09/770065dc-0c96-48aa-878c-d89231363602/Bible
 %20Study.png
END:VEVENT
END:VCALENDAR
